BEGIN:VCALENDAR
VERSION:2.0
PRODID:-//Tukios.com/
BEGIN:VEVENT
UID:b5b5ba47-4cc4-43bd-8d4a-b390ccbef0ba@www.clary-glenn.com
DTSTAMP:20260421T000148Z
DTSTART:20260425T180000Z
DTEND:20260425T210000Z
SUMMARY:Celebration of Life Service
DESCRIPTION:
URL:https://www.clary-glenn.com/obituaries/joyce-wostal-dickey
LOCATION:Freeport Community Center 114 Florida 20  Freeport FL 32439
GEO:30.4995442;-86.1367343
END:VEVENT
END:VCALENDAR