BEGIN:VCALENDAR
VERSION:2.0
PRODID:-//Tukios.com/
BEGIN:VEVENT
UID:ae0fc8d6-ee10-481e-961f-2340178fcc56@www.clary-glenn.com
DTSTAMP:20260420T235832Z
DTSTART:20260425T160000Z
DTEND:20260425T170000Z
SUMMARY:Funeral Service
DESCRIPTION:
URL:https://www.clary-glenn.com/obituaries/joyce-wostal-dickey
LOCATION:Clary-Glenn Freeport Chapel Funeral Home 150 FL-20  Freeport FL 
	32439
GEO:30.4968356;-86.1341284
END:VEVENT
END:VCALENDAR