BEGIN:VCALENDAR
VERSION:2.0
PRODID:-//Tukios.com/
BEGIN:VEVENT
UID:78a25678-6402-4f2b-89ef-0035a22895b8@www.clary-glenn.com
DTSTAMP:20260420T235954Z
DTSTART:20260425T150000Z
DTEND:20260425T160000Z
SUMMARY:Visitation
DESCRIPTION:
URL:https://www.clary-glenn.com/obituaries/joyce-wostal-dickey
LOCATION:Clary-Glenn Freeport Chapel Funeral Home 150 FL-20  Freeport FL 
	32439
GEO:30.4968356;-86.1341284
END:VEVENT
END:VCALENDAR