BEGIN:VCALENDAR
VERSION:2.0
PRODID:-//Tukios.com/
BEGIN:VEVENT
UID:400056e5-8e7c-48a0-9c77-62bcd08cc73f@www.clary-glenn.com
DTSTAMP:20260423T203841Z
DTSTART:20260429T220000Z
DTEND:20260430T000000Z
SUMMARY:Celebration of Life
DESCRIPTION:
URL:https://www.clary-glenn.com/obituaries/debra-debbie-dang
LOCATION: 56 Club House Drive West  Freeport FL 32439
GEO:30.487129;-86.033043
END:VEVENT
END:VCALENDAR